BEGIN:VCALENDAR
VERSION:2.0
PRODID:-//casaomaha.org//NONSGML kigkonsult.se iCalcreator 2.30.10//
CALSCALE:GREGORIAN
METHOD:PUBLISH
UID:caf313b2-2707-44fd-93ab-e974659fbb71
X-WR-CALDESC:CASA Volunteers are required to complete a 30 hour pre-service
  training before they are sworn-in by a Juvenile Court judge and assigned 
 to a case. The five-week pre-service training experience includes a weekly
  online learning component and a weekly three-hour Zoom class.\n\nIf you a
 re interested in learning more about becoming a CASA Volunteer\, please co
 ntact Recruitment Coordinator Jordan Fletcher at jfletcher@casaomaha.org o
 r 402-932-5683\, ext. 117.
X-WR-RELCALID:57fb378bbf39bbfd9cb93e9b17896629
X-WR-TIMEZONE:America/Chicago
BEGIN:VTIMEZONE
TZID:America/Chicago
BEGIN:STANDARD
TZNAME:CST
DTSTART:20221106T020000
TZOFFSETFROM:-0500
TZOFFSETTO:-0600
RDATE:20231105T020000
END:STANDARD
BEGIN:DAYLIGHT
TZNAME:CDT
DTSTART:20220313T020000
TZOFFSETFROM:-0600
TZOFFSETTO:-0500
RDATE:20230312T020000
RDATE:20240310T020000
END:DAYLIGHT
END:VTIMEZONE
BEGIN:VEVENT
UID:41de62df-b615-4381-9807-55ceafe846ad
DTSTAMP:20260420T184717Z
DESCRIPTION:CASA Volunteers are required to complete a 30 hour pre-service 
 training before they are sworn-in by a Juvenile Court judge and assigned t
 o a case. The five-week pre-service training experience includes a weekly 
 online learning component and a weekly three-hour Zoom class.\n\nIf you ar
 e interested in learning more about becoming a CASA Volunteer\, please con
 tact Recruitment Coordinator Jordan Fletcher at jfletcher@casaomaha.org or
  402-932-5683\, ext. 117.
DTSTART;TZID=America/Chicago:20221122T173000
DTEND;TZID=America/Chicago:20221122T203000
LOCATION:
SUMMARY:CASA Pre-Service Training Week 4
END:VEVENT
END:VCALENDAR
