BEGIN:VCALENDAR
VERSION:2.0
PRODID:-//casaomaha.org//NONSGML kigkonsult.se iCalcreator 2.30.10//
CALSCALE:GREGORIAN
METHOD:PUBLISH
UID:184ae708-6296-4eb2-a4a4-955386ba34fe
X-WR-CALDESC:CASA Volunteers are required to complete a 30-hour pre-service
  training before they are sworn-in by a Juvenile Court judge and assigned 
 to a case. The five-week pre-service training experience includes a weekly
  online learning component and a weekly three-hour Zoom class.\n\nIf you a
 re interested in learning more about becoming a CASA Volunteer\, please co
 ntact Community Outreach Specialist\, Martha Alcantara-Sanchez at malcanta
 ra@casaomaha.org or at  (402) 806-7453.
X-WR-RELCALID:8820b9e20cced9dfc7682fd1ce848109
X-WR-TIMEZONE:America/Chicago
BEGIN:VTIMEZONE
TZID:America/Chicago
BEGIN:STANDARD
TZNAME:CST
DTSTART:20221106T020000
TZOFFSETFROM:-0500
TZOFFSETTO:-0600
RDATE:20231105T020000
RDATE:20241103T020000
END:STANDARD
BEGIN:DAYLIGHT
TZNAME:CDT
DTSTART:20230312T020000
TZOFFSETFROM:-0600
TZOFFSETTO:-0500
RDATE:20240310T020000
END:DAYLIGHT
END:VTIMEZONE
BEGIN:VEVENT
UID:feecd6e6-2c9f-49ed-9114-76782edc0274
DTSTAMP:20260425T140336Z
DESCRIPTION:CASA Volunteers are required to complete a 30-hour pre-service 
 training before they are sworn-in by a Juvenile Court judge and assigned t
 o a case. The five-week pre-service training experience includes a weekly 
 online learning component and a weekly three-hour Zoom class.\n\nIf you ar
 e interested in learning more about becoming a CASA Volunteer\, please con
 tact Community Outreach Specialist\, Martha Alcantara-Sanchez at malcantar
 a@casaomaha.org or at  (402) 806-7453.
DTSTART;TZID=America/Chicago:20230509T173000
DTEND;TZID=America/Chicago:20230509T203000
LOCATION:
SUMMARY:CASA Pre-Service Training Week 3
END:VEVENT
END:VCALENDAR
