BEGIN:VCALENDAR
VERSION:2.0
PRODID:-//casaomaha.org//NONSGML kigkonsult.se iCalcreator 2.30.10//
CALSCALE:GREGORIAN
METHOD:PUBLISH
UID:0ead8490-e560-4568-8f58-d5263e30cda6
X-WR-CALDESC:As we observe Easter and Passover\, the CASA for Douglas Count
 y office will be closed on Friday\, April 3rd. We extend warm wishes to al
 l who are celebrating—may this season be one of reflection\, renewal\, and
  hope. We will resume normal business hours on Monday\, April 6th.
X-WR-RELCALID:5db7708568653bc385a16f1c5a63ec21
X-WR-TIMEZONE:America/Chicago
BEGIN:VTIMEZONE
TZID:America/Chicago
BEGIN:STANDARD
TZNAME:CST
DTSTART:20251102T020000
TZOFFSETFROM:-0500
TZOFFSETTO:-0600
RDATE:20261101T020000
END:STANDARD
BEGIN:DAYLIGHT
TZNAME:CDT
DTSTART:20260308T020000
TZOFFSETFROM:-0600
TZOFFSETTO:-0500
RDATE:20270314T020000
END:DAYLIGHT
END:VTIMEZONE
BEGIN:VEVENT
UID:99647518-c149-4668-95a9-a935e4266921
DTSTAMP:20260422T002957Z
DESCRIPTION:As we observe Easter and Passover\, the CASA for Douglas County
  office will be closed on Friday\, April 3rd. We extend warm wishes to all
  who are celebrating—may this season be one of reflection\, renewal\, and 
 hope. We will resume normal business hours on Monday\, April 6th.
DTSTART;TZID=America/Chicago:20260403T050000
DTEND;TZID=America/Chicago:20260403T050001
LOCATION:
SUMMARY:Easter & Passover-Office Closed
END:VEVENT
END:VCALENDAR
