BEGIN:VCALENDAR
VERSION:2.0
PRODID:-//casaomaha.org//NONSGML kigkonsult.se iCalcreator 2.30.10//
CALSCALE:GREGORIAN
METHOD:PUBLISH
UID:211d1227-4470-4f11-b547-73274ab220a8
X-WR-CALDESC:Our annual Volunteer Appreciation Event is in honor of the inc
 redible dedication and service of CASA Volunteer Advocate. Their commitmen
 t amplifies the voices of children and families in our community. This spe
 cial evening is part of Volunteer Appreciation Month and is our way of exp
 ressing gratitude for the extraordinary impact the Volunteer Advocates mak
 e.
X-WR-RELCALID:b8e118ba2b98195c1eef9a5c807bd6a8
X-WR-TIMEZONE:America/Chicago
BEGIN:VTIMEZONE
TZID:America/Chicago
BEGIN:STANDARD
TZNAME:CST
DTSTART:20251102T020000
TZOFFSETFROM:-0500
TZOFFSETTO:-0600
RDATE:20261101T020000
END:STANDARD
BEGIN:DAYLIGHT
TZNAME:CDT
DTSTART:20260308T020000
TZOFFSETFROM:-0600
TZOFFSETTO:-0500
RDATE:20270314T020000
END:DAYLIGHT
END:VTIMEZONE
BEGIN:VEVENT
UID:b682224e-f676-4bb4-b992-022df7ef3e55
DTSTAMP:20260421T225601Z
DESCRIPTION:Our annual Volunteer Appreciation Event is in honor of the incr
 edible dedication and service of CASA Volunteer Advocate. Their commitment
  amplifies the voices of children and families in our community. This spec
 ial evening is part of Volunteer Appreciation Month and is our way of expr
 essing gratitude for the extraordinary impact the Volunteer Advocates make
 .
DTSTART;TZID=America/Chicago:20260421T050000
DTEND;TZID=America/Chicago:20260421T050001
LOCATION:
SUMMARY:2026 Volunteer Appreciation Event
END:VEVENT
END:VCALENDAR
