BEGIN:VCALENDAR
VERSION:2.0
PRODID:-//casaomaha.org//NONSGML kigkonsult.se iCalcreator 2.30.10//
CALSCALE:GREGORIAN
METHOD:PUBLISH
UID:6752c1c0-79e5-4195-86e6-5d244e7d99fe
X-WR-CALDESC:In observance of Memorial Day\, the CASA for Douglas County of
 fice will be closed on Monday\, May 25th. We will resume normal business h
 ours on Tuesday\, May 26th. We will pause to honor and remember those who 
 made the ultimate sacrifice in service to our country.
X-WR-RELCALID:c032fc7a31397fa1c30790b39df485c4
X-WR-TIMEZONE:America/Chicago
BEGIN:VTIMEZONE
TZID:America/Chicago
BEGIN:STANDARD
TZNAME:CST
DTSTART:20251102T020000
TZOFFSETFROM:-0500
TZOFFSETTO:-0600
RDATE:20261101T020000
RDATE:20271107T020000
END:STANDARD
BEGIN:DAYLIGHT
TZNAME:CDT
DTSTART:20260308T020000
TZOFFSETFROM:-0600
TZOFFSETTO:-0500
RDATE:20270314T020000
END:DAYLIGHT
END:VTIMEZONE
BEGIN:VEVENT
UID:a8057f88-c889-49c0-88bb-c0ac39eb3e96
DTSTAMP:20260421T225141Z
DESCRIPTION:In observance of Memorial Day\, the CASA for Douglas County off
 ice will be closed on Monday\, May 25th. We will resume normal business ho
 urs on Tuesday\, May 26th. We will pause to honor and remember those who m
 ade the ultimate sacrifice in service to our country.
DTSTART;TZID=America/Chicago:20260525T050000
DTEND;TZID=America/Chicago:20260525T050001
LOCATION:
SUMMARY:Memorial Day-Office Closed
END:VEVENT
END:VCALENDAR
