BEGIN:VCALENDAR
VERSION:2.0
PRODID:-//casaomaha.org//NONSGML kigkonsult.se iCalcreator 2.30.10//
CALSCALE:GREGORIAN
METHOD:PUBLISH
UID:8cbed7d8-0f74-4893-aa78-f2b02f40e42c
X-WR-CALDESC:
X-WR-RELCALID:d4278aa4a4e4854b3cf2ed88d5561f1f
X-WR-TIMEZONE:America/Chicago
BEGIN:VTIMEZONE
TZID:America/Chicago
BEGIN:STANDARD
TZNAME:CST
DTSTART:20251102T020000
TZOFFSETFROM:-0500
TZOFFSETTO:-0600
RDATE:20261101T020000
RDATE:20271107T020000
END:STANDARD
BEGIN:DAYLIGHT
TZNAME:CDT
DTSTART:20260308T020000
TZOFFSETFROM:-0600
TZOFFSETTO:-0500
RDATE:20270314T020000
END:DAYLIGHT
END:VTIMEZONE
BEGIN:VEVENT
UID:bde34e67-814e-473a-9113-48a12d4cff81
DTSTAMP:20260421T225346Z
DESCRIPTION:
DTSTART;TZID=America/Chicago:20260613T050000
DTEND;TZID=America/Chicago:20260613T050001
LOCATION:1302 Farnam St\, Omaha\, NE 68102 US
SUMMARY:Freedom Fest Parade
END:VEVENT
END:VCALENDAR
